BEGIN:VCALENDAR
VERSION:2.0
PRODID:-//West Tennessee Healthcare - ECPv6.15.18//NONSGML v1.0//EN
CALSCALE:GREGORIAN
METHOD:PUBLISH
X-WR-CALNAME:West Tennessee Healthcare
X-ORIGINAL-URL:https://www.wth.org
X-WR-CALDESC:Events for West Tennessee Healthcare
REFRESH-INTERVAL;VALUE=DURATION:PT1H
X-Robots-Tag:noindex
X-PUBLISHED-TTL:PT1H
BEGIN:VTIMEZONE
TZID:America/Chicago
BEGIN:DAYLIGHT
TZOFFSETFROM:-0600
TZOFFSETTO:-0500
TZNAME:CDT
DTSTART:20250309T080000
END:DAYLIGHT
BEGIN:STANDARD
TZOFFSETFROM:-0500
TZOFFSETTO:-0600
TZNAME:CST
DTSTART:20251102T070000
END:STANDARD
BEGIN:DAYLIGHT
TZOFFSETFROM:-0600
TZOFFSETTO:-0500
TZNAME:CDT
DTSTART:20260308T080000
END:DAYLIGHT
BEGIN:STANDARD
TZOFFSETFROM:-0500
TZOFFSETTO:-0600
TZNAME:CST
DTSTART:20261101T070000
END:STANDARD
BEGIN:DAYLIGHT
TZOFFSETFROM:-0600
TZOFFSETTO:-0500
TZNAME:CDT
DTSTART:20270314T080000
END:DAYLIGHT
BEGIN:STANDARD
TZOFFSETFROM:-0500
TZOFFSETTO:-0600
TZNAME:CST
DTSTART:20271107T070000
END:STANDARD
END:VTIMEZONE
BEGIN:VEVENT
DTSTART;TZID=America/Chicago:20260302T180000
DTEND;TZID=America/Chicago:20260316T203000
DTSTAMP:20260425T054032
CREATED:20260120T223819Z
LAST-MODIFIED:20260120T224526Z
UID:10000296-1772474400-1773693000@www.wth.org
SUMMARY:Prepared Childbirth- Jackson
DESCRIPTION:Led by a registered nurse who is a trained childbirth educator\, this evening class is held weekly for three weeks. These classes are designed for the expectant mother and her labor partner to provide instruction on breathing\, relaxation\, and coping techniques for use during labor with or without medication. You’ll also become familiar with the stages and variations of labor including back labor\, c-section\, induction\, and epidural delivery using instruction\, video\, and interactive activities. Fee $50 (Class fee includes attendee\, plus one support person). \n  \nThree week series … Classes are weekly on Mondays … March 2nd\, 9th and 16th
URL:https://www.wth.org/event/prepared-childbirth-jackson-16/
LOCATION:Women & Children Community Education Classroom\, 637 Skyline Drive\, Jackson\, TN\, 38301\, United States
CATEGORIES:Classes,Events,Women & Children
ATTACH;FMTTYPE=image/jpeg:https://www.wth.org/wp-content/uploads/2019/03/womenshealth-card-2.jpg
ORGANIZER;CN="Women & Children":MAILTO:wcclasses@wth.org
END:VEVENT
BEGIN:VEVENT
DTSTART;TZID=America/Chicago:20260314T100000
DTEND;TZID=America/Chicago:20260314T120000
DTSTAMP:20260425T054032
CREATED:20260120T223155Z
LAST-MODIFIED:20260309T141758Z
UID:10000295-1773482400-1773489600@www.wth.org
SUMMARY:Siblings Class - Jackson
DESCRIPTION:Soon-to-be big brothers and sisters learn what their role will be when their new baby arrives. Children learn about newborn behavior and basic baby care. Each child receives a T-shirt that proudly states “I’m the big brother/sister.” For ages 3+.  Fee  $20 per family
URL:https://www.wth.org/event/siblings-class-jackson-11/
LOCATION:WCC Community Ed Classroom\, 637 Skyline Dr.\, Jackson\, Tn\, 38301
CATEGORIES:Ayers Children's Medical Center,Classes,Women & Children
ATTACH;FMTTYPE=image/jpeg:https://www.wth.org/wp-content/uploads/2019/05/GettyImages-940160158-1.jpg
ORGANIZER;CN="Women & Children":MAILTO:wcclasses@wth.org
END:VEVENT
BEGIN:VEVENT
DTSTART;TZID=America/Chicago:20260326T180000
DTEND;TZID=America/Chicago:20260326T210000
DTSTAMP:20260425T054032
CREATED:20260113T165536Z
LAST-MODIFIED:20260219T154332Z
UID:10000294-1774548000-1774558800@www.wth.org
SUMMARY:Birthing Blitz - Jackson
DESCRIPTION:This class is a condensed version of Prepared Childbirth and is designed for the expectant mother and labor partner.  The multiple aspects of labor\, birth and postpartum period are covered\, as well as baby basics.  Fee $20  (Class fee includes attendee\, plus one support person)
URL:https://www.wth.org/event/birthing-blitz-jackson-26/
LOCATION:Women & Children Community Education Classroom\, 637 Skyline Drive\, Jackson\, TN\, 38301\, United States
CATEGORIES:Classes,Events,Women & Children
ATTACH;FMTTYPE=image/jpeg:https://www.wth.org/wp-content/uploads/2019/03/womenshealth-card-2.jpg
ORGANIZER;CN="Women & Children":MAILTO:wcclasses@wth.org
END:VEVENT
BEGIN:VEVENT
DTSTART;TZID=America/Chicago:20260402T180000
DTEND;TZID=America/Chicago:20260402T200000
DTSTAMP:20260425T054032
CREATED:20260213T191205Z
LAST-MODIFIED:20260330T215933Z
UID:10002599-1775152800-1775160000@www.wth.org
SUMMARY:Breast Feeding
DESCRIPTION:Taught by a lactation consultant\, this one-time class prepares women and their support person for breastfeeding. Topics covered include what to expect the first several weeks and beyond\, the importance of good positioning and latch\, pumping\, hand expression and how your support person can help.
URL:https://www.wth.org/event/breast-feeding-30/
LOCATION:Women & Children Community Education Classroom\, 637 Skyline Drive\, Jackson\, TN\, 38301\, United States
CATEGORIES:Classes,Women’s Health
ATTACH;FMTTYPE=image/jpeg:https://www.wth.org/wp-content/uploads/2020/12/GettyImages-1191574624.jpg
ORGANIZER;CN="Women & Children":MAILTO:wcclasses@wth.org
END:VEVENT
BEGIN:VEVENT
DTSTART;TZID=America/Chicago:20260413T180000
DTEND;TZID=America/Chicago:20260413T210000
DTSTAMP:20260425T054032
CREATED:20260219T152647Z
LAST-MODIFIED:20260407T124946Z
UID:10002601-1776103200-1776114000@www.wth.org
SUMMARY:Birthing Blitz - Jackson
DESCRIPTION:This class is a condensed version of Prepared Childbirth and is designed for the expectant mother and labor partner.  The multiple aspects of labor\, birth and postpartum period are covered\, as well as baby basics.  Fee $20  (Class fee includes attendee\, plus one support person)
URL:https://www.wth.org/event/birthing-blitz-jackson-27/
LOCATION:Women & Children Community Education Classroom\, 637 Skyline Drive\, Jackson\, TN\, 38301\, United States
CATEGORIES:Classes,Events,Women & Children
ATTACH;FMTTYPE=image/jpeg:https://www.wth.org/wp-content/uploads/2019/03/womenshealth-card-2.jpg
ORGANIZER;CN="Women & Children":MAILTO:wcclasses@wth.org
END:VEVENT
BEGIN:VEVENT
DTSTART;TZID=America/Chicago:20260416T180000
DTEND;TZID=America/Chicago:20260430T203000
DTSTAMP:20260425T054032
CREATED:20260218T215024Z
LAST-MODIFIED:20260413T181535Z
UID:10002600-1776362400-1777581000@www.wth.org
SUMMARY:Prepared Childbirth- Jackson
DESCRIPTION:Led by a registered nurse who is a trained childbirth educator\, this evening class is held weekly for three weeks. These classes are designed for the expectant mother and her labor partner to provide instruction on breathing\, relaxation\, and coping techniques for use during labor with or without medication. You’ll also become familiar with the stages and variations of labor including back labor\, c-section\, induction\, and epidural delivery using instruction\, video\, and interactive activities. Fee $50 (Class fee includes attendee\, plus one support person). \n  \nThree week series.  Classes are weekly on Thursdays\, April 16th\, 23rd\, and 30th
URL:https://www.wth.org/event/prepared-childbirth-jackson-17/
LOCATION:Women & Children Community Education Classroom\, 637 Skyline Drive\, Jackson\, TN\, 38301\, United States
CATEGORIES:Classes,Events,Women & Children
ATTACH;FMTTYPE=image/jpeg:https://www.wth.org/wp-content/uploads/2019/03/womenshealth-card-2.jpg
ORGANIZER;CN="Women & Children":MAILTO:wcclasses@wth.org
END:VEVENT
BEGIN:VEVENT
DTSTART;TZID=America/Chicago:20260511T180000
DTEND;TZID=America/Chicago:20260511T210000
DTSTAMP:20260425T054032
CREATED:20260310T134109Z
LAST-MODIFIED:20260310T134226Z
UID:10002607-1778522400-1778533200@www.wth.org
SUMMARY:Birthing Blitz - Jackson
DESCRIPTION:This class is a condensed version of Prepared Childbirth and is designed for the expectant mother and labor partner.  The multiple aspects of labor\, birth and postpartum period are covered\, as well as baby basics.  Fee $20  (Class fee includes attendee\, plus one support person)
URL:https://www.wth.org/event/birthing-blitz-jackson-28/
LOCATION:Women & Children Community Education Classroom\, 637 Skyline Drive\, Jackson\, TN\, 38301\, United States
CATEGORIES:Classes,Events,Women & Children
ATTACH;FMTTYPE=image/jpeg:https://www.wth.org/wp-content/uploads/2019/03/womenshealth-card-2.jpg
ORGANIZER;CN="Women & Children":MAILTO:wcclasses@wth.org
END:VEVENT
BEGIN:VEVENT
DTSTART;TZID=America/Chicago:20260516T100000
DTEND;TZID=America/Chicago:20260516T120000
DTSTAMP:20260425T054032
CREATED:20260310T133301Z
LAST-MODIFIED:20260310T134445Z
UID:10002606-1778925600-1778932800@www.wth.org
SUMMARY:Siblings Class - Jackson
DESCRIPTION:Soon-to-be big brothers and sisters learn what their role will be when their new baby arrives. Children learn about newborn behavior and basic baby care. Each child receives a T-shirt that proudly states “I’m the big brother/sister.” For ages 3+.  Fee  $20 per family
URL:https://www.wth.org/event/siblings-class-jackson-12/
LOCATION:WCC Community Ed Classroom\, 637 Skyline Dr.\, Jackson\, Tn\, 38301
CATEGORIES:Ayers Children's Medical Center,Classes,Women & Children
ATTACH;FMTTYPE=image/jpeg:https://www.wth.org/wp-content/uploads/2019/05/GettyImages-940160158-1.jpg
ORGANIZER;CN="Women & Children":MAILTO:wcclasses@wth.org
END:VEVENT
BEGIN:VEVENT
DTSTART;TZID=America/Chicago:20260523T090000
DTEND;TZID=America/Chicago:20260523T120000
DTSTAMP:20260425T054032
CREATED:20260302T232501Z
LAST-MODIFIED:20260302T232559Z
UID:10002603-1779526800-1779537600@www.wth.org
SUMMARY:Babysitting 101
DESCRIPTION:Designed for youth (ages 11yrs & up)\, this class helps older children learn how to be responsible baby-sitters. Safety is emphasized as well as how to keep both children and parents happy. Participants are also given information on how to start and maintain a baby-sitting business. Fee $20
URL:https://www.wth.org/event/babysitting-101-17/
LOCATION:Women & Children Community Education Classroom\, 637 Skyline Drive\, Jackson\, TN\, 38301\, United States
CATEGORIES:Classes,Events,Women’s Health
ATTACH;FMTTYPE=image/jpeg:https://www.wth.org/wp-content/uploads/2019/05/Down-Syndrome-Girl-156820585.jpg
ORGANIZER;CN="Women & Children":MAILTO:wcclasses@wth.org
END:VEVENT
BEGIN:VEVENT
DTSTART;TZID=America/Chicago:20260604T180000
DTEND;TZID=America/Chicago:20260604T200000
DTSTAMP:20260425T054032
CREATED:20260423T210628Z
LAST-MODIFIED:20260423T210734Z
UID:10002622-1780596000-1780603200@www.wth.org
SUMMARY:Breast Feeding
DESCRIPTION:Taught by a lactation consultant\, this one-time class prepares women and their support person for breastfeeding. Topics covered include what to expect the first several weeks and beyond\, the importance of good positioning and latch\, pumping\, hand expression and how your support person can help.
URL:https://www.wth.org/event/breast-feeding-32/
LOCATION:Women & Children Community Education Classroom\, 637 Skyline Drive\, Jackson\, TN\, 38301\, United States
CATEGORIES:Classes,Women’s Health
ATTACH;FMTTYPE=image/jpeg:https://www.wth.org/wp-content/uploads/2020/12/GettyImages-1191574624.jpg
ORGANIZER;CN="Women & Children":MAILTO:wcclasses@wth.org
END:VEVENT
BEGIN:VEVENT
DTSTART;TZID=America/Chicago:20260606T090000
DTEND;TZID=America/Chicago:20260606T120000
DTSTAMP:20260425T054032
CREATED:20260407T151640Z
LAST-MODIFIED:20260407T151738Z
UID:10002615-1780736400-1780747200@www.wth.org
SUMMARY:Babysitting 101
DESCRIPTION:Designed for youth (ages 11yrs & up)\, this class helps older children learn how to be responsible baby-sitters. Safety is emphasized as well as how to keep both children and parents happy. Participants are also given information on how to start and maintain a baby-sitting business. Fee $20
URL:https://www.wth.org/event/babysitting-101-18/
LOCATION:Women & Children Community Education Classroom\, 637 Skyline Drive\, Jackson\, TN\, 38301\, United States
CATEGORIES:Classes,Events,Women’s Health
ATTACH;FMTTYPE=image/jpeg:https://www.wth.org/wp-content/uploads/2019/05/Down-Syndrome-Girl-156820585.jpg
ORGANIZER;CN="Women & Children":MAILTO:wcclasses@wth.org
END:VEVENT
BEGIN:VEVENT
DTSTART;TZID=America/Chicago:20260611T180000
DTEND;TZID=America/Chicago:20260625T203000
DTSTAMP:20260425T054032
CREATED:20260407T151049Z
LAST-MODIFIED:20260407T151150Z
UID:10002614-1781200800-1782419400@www.wth.org
SUMMARY:Prepared Childbirth- Jackson
DESCRIPTION:Led by a registered nurse who is a trained childbirth educator\, this evening class is held weekly for three weeks. These classes are designed for the expectant mother and her labor partner to provide instruction on breathing\, relaxation\, and coping techniques for use during labor with or without medication. You’ll also become familiar with the stages and variations of labor including back labor\, c-section\, induction\, and epidural delivery using instruction\, video\, and interactive activities. Fee $50 (Class fee includes attendee\, plus one support person). \n  \nThree week series … Classes are weekly on Thursdays … June 11th\, 18th and 25th
URL:https://www.wth.org/event/prepared-childbirth-jackson-18/
LOCATION:Women & Children Community Education Classroom\, 637 Skyline Drive\, Jackson\, TN\, 38301\, United States
CATEGORIES:Classes,Events,Women & Children
ATTACH;FMTTYPE=image/jpeg:https://www.wth.org/wp-content/uploads/2019/03/womenshealth-card-2.jpg
ORGANIZER;CN="Women & Children":MAILTO:wcclasses@wth.org
END:VEVENT
BEGIN:VEVENT
DTSTART;TZID=America/Chicago:20260615T180000
DTEND;TZID=America/Chicago:20260615T210000
DTSTAMP:20260425T054032
CREATED:20260407T143956Z
LAST-MODIFIED:20260407T144059Z
UID:10002613-1781546400-1781557200@www.wth.org
SUMMARY:Birthing Blitz - Jackson
DESCRIPTION:This class is a condensed version of Prepared Childbirth and is designed for the expectant mother and labor partner.  The multiple aspects of labor\, birth and postpartum period are covered\, as well as baby basics.  Fee $20  (Class fee includes attendee\, plus one support person)
URL:https://www.wth.org/event/birthing-blitz-jackson-29/
LOCATION:Women & Children Community Education Classroom\, 637 Skyline Drive\, Jackson\, TN\, 38301\, United States
CATEGORIES:Classes,Events,Women & Children
ATTACH;FMTTYPE=image/jpeg:https://www.wth.org/wp-content/uploads/2019/03/womenshealth-card-2.jpg
ORGANIZER;CN="Women & Children":MAILTO:wcclasses@wth.org
END:VEVENT
END:VCALENDAR