BEGIN:VCALENDAR
VERSION:2.0
PRODID:-//West Tennessee Healthcare - ECPv6.15.18//NONSGML v1.0//EN
CALSCALE:GREGORIAN
METHOD:PUBLISH
X-ORIGINAL-URL:https://www.wth.org
X-WR-CALDESC:Events for West Tennessee Healthcare
REFRESH-INTERVAL;VALUE=DURATION:PT1H
X-Robots-Tag:noindex
X-PUBLISHED-TTL:PT1H
BEGIN:VTIMEZONE
TZID:America/Chicago
BEGIN:DAYLIGHT
TZOFFSETFROM:-0600
TZOFFSETTO:-0500
TZNAME:CDT
DTSTART:20250309T080000
END:DAYLIGHT
BEGIN:STANDARD
TZOFFSETFROM:-0500
TZOFFSETTO:-0600
TZNAME:CST
DTSTART:20251102T070000
END:STANDARD
BEGIN:DAYLIGHT
TZOFFSETFROM:-0600
TZOFFSETTO:-0500
TZNAME:CDT
DTSTART:20260308T080000
END:DAYLIGHT
BEGIN:STANDARD
TZOFFSETFROM:-0500
TZOFFSETTO:-0600
TZNAME:CST
DTSTART:20261101T070000
END:STANDARD
BEGIN:DAYLIGHT
TZOFFSETFROM:-0600
TZOFFSETTO:-0500
TZNAME:CDT
DTSTART:20270314T080000
END:DAYLIGHT
BEGIN:STANDARD
TZOFFSETFROM:-0500
TZOFFSETTO:-0600
TZNAME:CST
DTSTART:20271107T070000
END:STANDARD
END:VTIMEZONE
BEGIN:VEVENT
DTSTART;TZID=America/Chicago:20260313T130000
DTEND;TZID=America/Chicago:20260313T150000
DTSTAMP:20260422T031242
CREATED:20260303T215145Z
LAST-MODIFIED:20260311T170309Z
UID:10002604-1773406800-1773414000@www.wth.org
SUMMARY:4th Annual Poster Presentations
DESCRIPTION:4th Annual Poster Presentations March 13th from 1-3 in WTH-HC Hospital cafeteria \n  \nAlex Boyd Final Poster \nKyle Tidwell final poster \nDylan Brown Final Poster \nHunter Horsley Poster FINAL \nEnglish Todd poster ETMeckelsDiverticulitis \nSamuel Ward Final Poster
URL:https://www.wth.org/event/54632/
LOCATION:West Tennessee Healthcare Henry County Hopital\, 301 Tyson Avenue\, Paris\, TN\, 38242\, United States
CATEGORIES:Henry County Hospital
ATTACH;FMTTYPE=image/png:https://www.wth.org/wp-content/uploads/2026/03/poster-pres.png
END:VEVENT
END:VCALENDAR