BEGIN:VCALENDAR
VERSION:2.0
PRODID:-//West Tennessee Healthcare - ECPv6.15.18//NONSGML v1.0//EN
CALSCALE:GREGORIAN
METHOD:PUBLISH
X-WR-CALNAME:West Tennessee Healthcare
X-ORIGINAL-URL:https://www.wth.org
X-WR-CALDESC:Events for West Tennessee Healthcare
REFRESH-INTERVAL;VALUE=DURATION:PT1H
X-Robots-Tag:noindex
X-PUBLISHED-TTL:PT1H
BEGIN:VTIMEZONE
TZID:America/Chicago
BEGIN:DAYLIGHT
TZOFFSETFROM:-0600
TZOFFSETTO:-0500
TZNAME:CDT
DTSTART:20230312T080000
END:DAYLIGHT
BEGIN:STANDARD
TZOFFSETFROM:-0500
TZOFFSETTO:-0600
TZNAME:CST
DTSTART:20231105T070000
END:STANDARD
BEGIN:DAYLIGHT
TZOFFSETFROM:-0600
TZOFFSETTO:-0500
TZNAME:CDT
DTSTART:20240310T080000
END:DAYLIGHT
BEGIN:STANDARD
TZOFFSETFROM:-0500
TZOFFSETTO:-0600
TZNAME:CST
DTSTART:20241103T070000
END:STANDARD
BEGIN:DAYLIGHT
TZOFFSETFROM:-0600
TZOFFSETTO:-0500
TZNAME:CDT
DTSTART:20250309T080000
END:DAYLIGHT
BEGIN:STANDARD
TZOFFSETFROM:-0500
TZOFFSETTO:-0600
TZNAME:CST
DTSTART:20251102T070000
END:STANDARD
END:VTIMEZONE
BEGIN:VEVENT
DTSTART;TZID=America/Chicago:20241031T170000
DTEND;TZID=America/Chicago:20241031T190000
DTSTAMP:20260420T222920
CREATED:20241001T145316Z
LAST-MODIFIED:20240926T152931Z
UID:10000203-1730394000-1730401200@www.wth.org
SUMMARY:"Zoo and Boo" Halloween Event for Families | Thurs. October 31\, 2024
DESCRIPTION:West Tennessee Medical Group | Pediatrics Paris is excited to announce its Inaugural “Zoo and Boo” Halloween Event\nThe West Tennessee Medical Group | Pediatrics Paris “Zoo and Boo” event is free and open to the public\, so grab your costumes and join us for a frightfully fun night! \nWhen: Halloween Night – Thursday\, October 31\, 2024\n5:00 PM to 7:00 PM \nWhere: West Tennessee Medical Group | Pediatrics Paris\n243 Jim Drive Rd\, Paris\, TN\n  \n“Zoo and Boo” promises to be a spooktacular evening filled with fun activities for the whole family\, including:\n• Trunk or Treating: Collect treats from decorated trunks in a safe and festive environment.\n• Games: Enjoy kid-friendly Halloween games to win prizes and have a blast.\n• World’s Smallest Pumpkin Patch: Hunt for the tiniest pumpkins in this one-of-a-kind patch.\n• Petting Zoo: Meet and interact with adorable animals—an unforgettable experience for the little ones! \nIn addition to the Halloween excitement\, this event offers a chance to meet the local healthcare providers from the newly named West Tennessee Medical Group | Pediatrics Paris. Our team is excited to connect with families and share more about our services. \nDon’t miss out on this fun-filled evening of trick-or-treating\, games\, pumpkins\, and furry friends!
URL:https://www.wth.org/event/zoo-and-boo-pediatrics-paris/
LOCATION:West Tennessee Medical Group | Pediatrics Paris\, 243 Jim Drive Road\, Paris\, TN\, United States
CATEGORIES:West Tennesse Medical Group
ATTACH;FMTTYPE=image/png:https://www.wth.org/wp-content/uploads/2024/09/original-F0FCBD37-863B-467E-A65B-A0F0C3009433.png
END:VEVENT
END:VCALENDAR