BEGIN:VCALENDAR
VERSION:2.0
PRODID:-//West Tennessee Healthcare - ECPv6.15.18//NONSGML v1.0//EN
CALSCALE:GREGORIAN
METHOD:PUBLISH
X-WR-CALNAME:West Tennessee Healthcare
X-ORIGINAL-URL:https://www.wth.org
X-WR-CALDESC:Events for West Tennessee Healthcare
REFRESH-INTERVAL;VALUE=DURATION:PT1H
X-Robots-Tag:noindex
X-PUBLISHED-TTL:PT1H
BEGIN:VTIMEZONE
TZID:America/Chicago
BEGIN:DAYLIGHT
TZOFFSETFROM:-0600
TZOFFSETTO:-0500
TZNAME:CDT
DTSTART:20220313T080000
END:DAYLIGHT
BEGIN:STANDARD
TZOFFSETFROM:-0500
TZOFFSETTO:-0600
TZNAME:CST
DTSTART:20221106T070000
END:STANDARD
BEGIN:DAYLIGHT
TZOFFSETFROM:-0600
TZOFFSETTO:-0500
TZNAME:CDT
DTSTART:20230312T080000
END:DAYLIGHT
BEGIN:STANDARD
TZOFFSETFROM:-0500
TZOFFSETTO:-0600
TZNAME:CST
DTSTART:20231105T070000
END:STANDARD
BEGIN:DAYLIGHT
TZOFFSETFROM:-0600
TZOFFSETTO:-0500
TZNAME:CDT
DTSTART:20240310T080000
END:DAYLIGHT
BEGIN:STANDARD
TZOFFSETFROM:-0500
TZOFFSETTO:-0600
TZNAME:CST
DTSTART:20241103T070000
END:STANDARD
END:VTIMEZONE
BEGIN:VEVENT
DTSTART;TZID=America/Chicago:20230607T180000
DTEND;TZID=America/Chicago:20230607T200000
DTSTAMP:20260419T175832
CREATED:20230403T171135Z
LAST-MODIFIED:20230517T142929Z
UID:10000107-1686160800-1686168000@www.wth.org
SUMMARY:Infant Care - Jackson
DESCRIPTION:This one-time class for both mom and dad covers all the basics of taking care of a newborn. We’ll cover umbilical cord care\, circumcision care\, diaper rash\, colic\, bathing\, burping\, bonding\, safe sleep and more.  $20
URL:https://www.wth.org/event/infant-care-jackson-26/
LOCATION:WCC Community Ed Classroom\, 637 Skyline Dr.\, Jackson\, Tn\, 38301
CATEGORIES:Women & Children,Women’s Health
ATTACH;FMTTYPE=image/jpeg:https://www.wth.org/wp-content/uploads/2020/12/IC-2021.jpeg
ORGANIZER;CN="Women & Children":MAILTO:wcclasses@wth.org
END:VEVENT
BEGIN:VEVENT
DTSTART;TZID=America/Chicago:20230624T090000
DTEND;TZID=America/Chicago:20230624T120000
DTSTAMP:20260419T175832
CREATED:20230517T183425Z
LAST-MODIFIED:20230623T141942Z
UID:10000118-1687597200-1687608000@www.wth.org
SUMMARY:Babysitting 101
DESCRIPTION:Designed for youth (ages 11-15)\, this class helps older children learn how to be responsible baby-sitters. Safety is emphasized as well as how to keep both children and parents happy. Participants are also given information on how  to start and maintain a baby-sitting business. Fee $20
URL:https://www.wth.org/event/babysitting-101-6/
LOCATION:Women & Children Community Education Classroom\, 637 Skyline Drive\, Jackson\, TN\, 38301\, United States
CATEGORIES:Classes,Events,Women’s Health
ATTACH;FMTTYPE=image/jpeg:https://www.wth.org/wp-content/uploads/2019/05/Down-Syndrome-Girl-156820585.jpg
ORGANIZER;CN="Women & Children":MAILTO:wcclasses@wth.org
END:VEVENT
END:VCALENDAR