BEGIN:VCALENDAR
VERSION:2.0
PRODID:-//West Tennessee Healthcare - ECPv6.15.18//NONSGML v1.0//EN
CALSCALE:GREGORIAN
METHOD:PUBLISH
X-ORIGINAL-URL:https://www.wth.org
X-WR-CALDESC:Events for West Tennessee Healthcare
REFRESH-INTERVAL;VALUE=DURATION:PT1H
X-Robots-Tag:noindex
X-PUBLISHED-TTL:PT1H
BEGIN:VTIMEZONE
TZID:America/Chicago
BEGIN:DAYLIGHT
TZOFFSETFROM:-0600
TZOFFSETTO:-0500
TZNAME:CDT
DTSTART:20220313T080000
END:DAYLIGHT
BEGIN:STANDARD
TZOFFSETFROM:-0500
TZOFFSETTO:-0600
TZNAME:CST
DTSTART:20221106T070000
END:STANDARD
BEGIN:DAYLIGHT
TZOFFSETFROM:-0600
TZOFFSETTO:-0500
TZNAME:CDT
DTSTART:20230312T080000
END:DAYLIGHT
BEGIN:STANDARD
TZOFFSETFROM:-0500
TZOFFSETTO:-0600
TZNAME:CST
DTSTART:20231105T070000
END:STANDARD
BEGIN:DAYLIGHT
TZOFFSETFROM:-0600
TZOFFSETTO:-0500
TZNAME:CDT
DTSTART:20240310T080000
END:DAYLIGHT
BEGIN:STANDARD
TZOFFSETFROM:-0500
TZOFFSETTO:-0600
TZNAME:CST
DTSTART:20241103T070000
END:STANDARD
END:VTIMEZONE
BEGIN:VEVENT
DTSTART;TZID=America/Chicago:20230905T180000
DTEND;TZID=America/Chicago:20230905T200000
DTSTAMP:20260419T133404
CREATED:20230714T193243Z
LAST-MODIFIED:20230824T215425Z
UID:10000124-1693936800-1693944000@www.wth.org
SUMMARY:Girl Talk
DESCRIPTION:Girl Talk is designed to open up communication between moms and daughters (ages 10 – 12) about puberty\, reproduction\, self-esteem\, decision-making and other issues as they mature into young women. This Class is a four night series. \n$40/family – If you select to pay for ticket online\, please note only 1 ticket is required per family \nClasses held Tuesdays\, 9/5\, 9/12\, 9/19 and 9/26/2023
URL:https://www.wth.org/event/girl-talk-18/
LOCATION:WCC Community Ed Classroom\, 637 Skyline Dr.\, Jackson\, Tn\, 38301
CATEGORIES:Women & Children,Women’s Health
ATTACH;FMTTYPE=image/jpeg:https://www.wth.org/wp-content/uploads/2020/12/GT-2021.jpeg
ORGANIZER;CN="Women & Children":MAILTO:wcclasses@wth.org
END:VEVENT
BEGIN:VEVENT
DTSTART;TZID=America/Chicago:20230906T180000
DTEND;TZID=America/Chicago:20230906T200000
DTSTAMP:20260419T133404
CREATED:20230720T193545Z
LAST-MODIFIED:20230808T205819Z
UID:10000126-1694023200-1694030400@www.wth.org
SUMMARY:Infant Care - Jackson
DESCRIPTION:This one-time class for both mom and dad covers all the basics of taking care of a newborn. We’ll cover umbilical cord care\, circumcision care\, diaper rash\, colic\, bathing\, burping\, bonding\, safe sleep and more.  $20
URL:https://www.wth.org/event/infant-care-jackson-28/
LOCATION:WCC Community Ed Classroom\, 637 Skyline Dr.\, Jackson\, Tn\, 38301
CATEGORIES:Women & Children,Women’s Health
ATTACH;FMTTYPE=image/jpeg:https://www.wth.org/wp-content/uploads/2020/12/IC-2021.jpeg
ORGANIZER;CN="Women & Children":MAILTO:wcclasses@wth.org
END:VEVENT
BEGIN:VEVENT
DTSTART;TZID=America/Chicago:20230907T180000
DTEND;TZID=America/Chicago:20230907T200000
DTSTAMP:20260419T133404
CREATED:20230720T192851Z
LAST-MODIFIED:20230824T215753Z
UID:10000121-1694109600-1694116800@www.wth.org
SUMMARY:Breast Feeding
DESCRIPTION:Taught by a lactation consultant\, this one-time class prepares women and their support person for breastfeeding. Topics covered include what to expect the first several weeks and beyond\, the importance of good positioning and latch\, pumping\, hand expression and how your support person can help.  $20 \n 
URL:https://www.wth.org/event/breast-feeding-21/
LOCATION:Women & Children Community Education Classroom\, 637 Skyline Drive\, Jackson\, TN\, 38301\, United States
CATEGORIES:Women & Children,Women’s Health
ATTACH;FMTTYPE=image/jpeg:https://www.wth.org/wp-content/uploads/2020/12/GettyImages-1191574624.jpg
ORGANIZER;CN="Women & Children":MAILTO:wcclasses@wth.org
END:VEVENT
END:VCALENDAR