BEGIN:VCALENDAR
VERSION:2.0
PRODID:-//West Tennessee Healthcare - ECPv6.15.18//NONSGML v1.0//EN
CALSCALE:GREGORIAN
METHOD:PUBLISH
X-WR-CALNAME:West Tennessee Healthcare
X-ORIGINAL-URL:https://www.wth.org
X-WR-CALDESC:Events for West Tennessee Healthcare
REFRESH-INTERVAL;VALUE=DURATION:PT1H
X-Robots-Tag:noindex
X-PUBLISHED-TTL:PT1H
BEGIN:VTIMEZONE
TZID:America/Chicago
BEGIN:DAYLIGHT
TZOFFSETFROM:-0600
TZOFFSETTO:-0500
TZNAME:CDT
DTSTART:20240310T080000
END:DAYLIGHT
BEGIN:STANDARD
TZOFFSETFROM:-0500
TZOFFSETTO:-0600
TZNAME:CST
DTSTART:20241103T070000
END:STANDARD
BEGIN:DAYLIGHT
TZOFFSETFROM:-0600
TZOFFSETTO:-0500
TZNAME:CDT
DTSTART:20250309T080000
END:DAYLIGHT
BEGIN:STANDARD
TZOFFSETFROM:-0500
TZOFFSETTO:-0600
TZNAME:CST
DTSTART:20251102T070000
END:STANDARD
BEGIN:DAYLIGHT
TZOFFSETFROM:-0600
TZOFFSETTO:-0500
TZNAME:CDT
DTSTART:20260308T080000
END:DAYLIGHT
BEGIN:STANDARD
TZOFFSETFROM:-0500
TZOFFSETTO:-0600
TZNAME:CST
DTSTART:20261101T070000
END:STANDARD
END:VTIMEZONE
BEGIN:VEVENT
DTSTART;TZID=America/Chicago:20250503T090000
DTEND;TZID=America/Chicago:20250503T120000
DTSTAMP:20260424T065727
CREATED:20250128T145402Z
LAST-MODIFIED:20250423T142610Z
UID:10000233-1746262800-1746273600@www.wth.org
SUMMARY:Babysitting 101
DESCRIPTION:Designed for youth (ages 11yrs & up)\, this class helps older children learn how to be responsible baby-sitters. Safety is emphasized as well as how to keep both children and parents happy. Participants are also given information on how to start and maintain a baby-sitting business. Fee $20
URL:https://www.wth.org/event/babysitting-101-11/
LOCATION:Women & Children Community Education Classroom\, 637 Skyline Drive\, Jackson\, TN\, 38301\, United States
CATEGORIES:Classes,Events,Women’s Health
ATTACH;FMTTYPE=image/jpeg:https://www.wth.org/wp-content/uploads/2019/05/Down-Syndrome-Girl-156820585.jpg
ORGANIZER;CN="Women & Children":MAILTO:wcclasses@wth.org
END:VEVENT
BEGIN:VEVENT
DTSTART;TZID=America/Chicago:20250504T133000
DTEND;TZID=America/Chicago:20250504T163000
DTSTAMP:20260424T065727
CREATED:20250312T201426Z
LAST-MODIFIED:20250402T172418Z
UID:10000239-1746365400-1746376200@www.wth.org
SUMMARY:Girl Talk
DESCRIPTION:Girl Talk is designed to open up communication between moms and daughters (ages 10 – 12) about puberty\, reproduction\, self-esteem\, decision-making and other issues as they mature into young women. This Class is a 3 week series. \n$40/family – If you select to pay for ticket online\, please note only 1 ticket is required per family \nClasses held on Sundays… 5/4\, 5/18 and 5/25/2025 from 1:30 – 4:30.
URL:https://www.wth.org/event/girl-talk-10/
LOCATION:WCC Community Ed Classroom\, 637 Skyline Dr.\, Jackson\, Tn\, 38301
CATEGORIES:Women & Children,Women’s Health
ATTACH;FMTTYPE=image/jpeg:https://www.wth.org/wp-content/uploads/2020/12/GT-2021.jpeg
ORGANIZER;CN="Women & Children":MAILTO:wcclasses@wth.org
END:VEVENT
BEGIN:VEVENT
DTSTART;TZID=America/Chicago:20250507T180000
DTEND;TZID=America/Chicago:20250507T200000
DTSTAMP:20260424T065727
CREATED:20250402T163033Z
LAST-MODIFIED:20250402T163033Z
UID:10000240-1746640800-1746648000@www.wth.org
SUMMARY:Infant Care - Jackson
DESCRIPTION:This one-time infant care class for both mom and dad covers all the basics of taking care of a newborn. We’ll cover umbilical cord care\, circumcision care\, diaper rash\, colic\, bathing\, burping\, bonding\, safe sleep and more.  $20 for mom and one support person.
URL:https://www.wth.org/event/infant-care-jackson-20/
LOCATION:WCC Community Ed Classroom\, 637 Skyline Dr.\, Jackson\, Tn\, 38301
CATEGORIES:Women & Children,Women’s Health
ATTACH;FMTTYPE=image/jpeg:https://www.wth.org/wp-content/uploads/2020/12/IC-2021.jpeg
ORGANIZER;CN="Women & Children":MAILTO:wcclasses@wth.org
END:VEVENT
BEGIN:VEVENT
DTSTART;TZID=America/Chicago:20250508T180000
DTEND;TZID=America/Chicago:20250508T200000
DTSTAMP:20260424T065727
CREATED:20250402T163606Z
LAST-MODIFIED:20250425T165054Z
UID:10000241-1746727200-1746734400@www.wth.org
SUMMARY:Breast Feeding
DESCRIPTION:Taught by a lactation consultant\, this one-time class prepares women and their support person for breastfeeding. Topics covered include what to expect the first several weeks and beyond\, the importance of good positioning and latch\, pumping\, hand expression and how your support person can help.  $20 for mom and one support person. \n 
URL:https://www.wth.org/event/breast-feeding-18/
LOCATION:Women & Children Community Education Classroom\, 637 Skyline Drive\, Jackson\, TN\, 38301\, United States
CATEGORIES:Women & Children,Women’s Health
ATTACH;FMTTYPE=image/jpeg:https://www.wth.org/wp-content/uploads/2020/12/GettyImages-1191574624.jpg
ORGANIZER;CN="Women & Children":MAILTO:wcclasses@wth.org
END:VEVENT
END:VCALENDAR