BEGIN:VCALENDAR
VERSION:2.0
PRODID:-//West Tennessee Healthcare - ECPv6.15.18//NONSGML v1.0//EN
CALSCALE:GREGORIAN
METHOD:PUBLISH
X-ORIGINAL-URL:https://www.wth.org
X-WR-CALDESC:Events for West Tennessee Healthcare
REFRESH-INTERVAL;VALUE=DURATION:PT1H
X-Robots-Tag:noindex
X-PUBLISHED-TTL:PT1H
BEGIN:VTIMEZONE
TZID:America/Chicago
BEGIN:DAYLIGHT
TZOFFSETFROM:-0600
TZOFFSETTO:-0500
TZNAME:CDT
DTSTART:20280312T080000
END:DAYLIGHT
BEGIN:STANDARD
TZOFFSETFROM:-0500
TZOFFSETTO:-0600
TZNAME:CST
DTSTART:20281105T070000
END:STANDARD
BEGIN:DAYLIGHT
TZOFFSETFROM:-0600
TZOFFSETTO:-0500
TZNAME:CDT
DTSTART:20290311T080000
END:DAYLIGHT
BEGIN:STANDARD
TZOFFSETFROM:-0500
TZOFFSETTO:-0600
TZNAME:CST
DTSTART:20291104T070000
END:STANDARD
BEGIN:DAYLIGHT
TZOFFSETFROM:-0600
TZOFFSETTO:-0500
TZNAME:CDT
DTSTART:20300310T080000
END:DAYLIGHT
BEGIN:STANDARD
TZOFFSETFROM:-0500
TZOFFSETTO:-0600
TZNAME:CST
DTSTART:20301103T070000
END:STANDARD
END:VTIMEZONE
BEGIN:VEVENT
DTSTART;TZID=America/Chicago:20290102T090000
DTEND;TZID=America/Chicago:20290102T090000
DTSTAMP:20260422T224210
CREATED:20260129T145436Z
LAST-MODIFIED:20260129T145539Z
UID:10002326-1862038800-1862038800@www.wth.org
SUMMARY:Total Joint Replacement Class
DESCRIPTION:Total Joint Replacement Class offered every Tuesday.\nTwo sessions are offered in the Private Dining Room of WTH Henry County Hospital:\n-9:00am\n-12:30pm\n\nTo register for class\, please call Nicole (731) 641-2720\n 
URL:https://www.wth.org/event/total-joint-replacement-class/2029-01-02/
LOCATION:West Tennessee Healthcare Henry County Hopital\, 301 Tyson Avenue\, Paris\, TN\, 38242\, United States
CATEGORIES:Henry County Hospital
ATTACH;FMTTYPE=image/jpeg:https://www.wth.org/wp-content/uploads/2026/01/Total-Joint-Replacement-Class-1.jpg
END:VEVENT
BEGIN:VEVENT
DTSTART;TZID=America/Chicago:20290109T090000
DTEND;TZID=America/Chicago:20290109T090000
DTSTAMP:20260422T224210
CREATED:20260129T145436Z
LAST-MODIFIED:20260129T145539Z
UID:10002327-1862643600-1862643600@www.wth.org
SUMMARY:Total Joint Replacement Class
DESCRIPTION:Total Joint Replacement Class offered every Tuesday.\nTwo sessions are offered in the Private Dining Room of WTH Henry County Hospital:\n-9:00am\n-12:30pm\n\nTo register for class\, please call Nicole (731) 641-2720\n 
URL:https://www.wth.org/event/total-joint-replacement-class/2029-01-09/
LOCATION:West Tennessee Healthcare Henry County Hopital\, 301 Tyson Avenue\, Paris\, TN\, 38242\, United States
CATEGORIES:Henry County Hospital
ATTACH;FMTTYPE=image/jpeg:https://www.wth.org/wp-content/uploads/2026/01/Total-Joint-Replacement-Class-1.jpg
END:VEVENT
BEGIN:VEVENT
DTSTART;VALUE=DATE:20290111
DTEND;VALUE=DATE:20290112
DTSTAMP:20260422T224210
CREATED:20260129T151552Z
LAST-MODIFIED:20260129T151552Z
UID:10002525-1862784000-1862870399@www.wth.org
SUMMARY:WTH - Henry County Hospital offers a Mobility and Assistive Technology clinic
DESCRIPTION:WTH – Henry County Hospital offers a Mobility and Assistive Technology clinic designed to help those in wheelchairs who may need adjustments or modifications. Evaluations are also conducted for power chairs and seat molding is also a service provided at these clinics. Augmentative Communication devices are also available for individuals with communication impairments. \nThe clinics are held the 2nd Wednesday of every month.
URL:https://www.wth.org/event/wth-henry-county-hospital-offers-a-mobility-and-assistive-technology-clinic/2029-01-11/
LOCATION:TN
CATEGORIES:Henry County Hospital
ATTACH;FMTTYPE=image/webp:https://www.wth.org/wp-content/uploads/2026/01/Mobility-and-Assistive-Technology-clinic.webp
END:VEVENT
BEGIN:VEVENT
DTSTART;TZID=America/Chicago:20290116T090000
DTEND;TZID=America/Chicago:20290116T090000
DTSTAMP:20260422T224210
CREATED:20260129T145436Z
LAST-MODIFIED:20260129T145539Z
UID:10002328-1863248400-1863248400@www.wth.org
SUMMARY:Total Joint Replacement Class
DESCRIPTION:Total Joint Replacement Class offered every Tuesday.\nTwo sessions are offered in the Private Dining Room of WTH Henry County Hospital:\n-9:00am\n-12:30pm\n\nTo register for class\, please call Nicole (731) 641-2720\n 
URL:https://www.wth.org/event/total-joint-replacement-class/2029-01-16/
LOCATION:West Tennessee Healthcare Henry County Hopital\, 301 Tyson Avenue\, Paris\, TN\, 38242\, United States
CATEGORIES:Henry County Hospital
ATTACH;FMTTYPE=image/jpeg:https://www.wth.org/wp-content/uploads/2026/01/Total-Joint-Replacement-Class-1.jpg
END:VEVENT
BEGIN:VEVENT
DTSTART;TZID=America/Chicago:20290123T090000
DTEND;TZID=America/Chicago:20290123T090000
DTSTAMP:20260422T224210
CREATED:20260129T145436Z
LAST-MODIFIED:20260129T145539Z
UID:10002329-1863853200-1863853200@www.wth.org
SUMMARY:Total Joint Replacement Class
DESCRIPTION:Total Joint Replacement Class offered every Tuesday.\nTwo sessions are offered in the Private Dining Room of WTH Henry County Hospital:\n-9:00am\n-12:30pm\n\nTo register for class\, please call Nicole (731) 641-2720\n 
URL:https://www.wth.org/event/total-joint-replacement-class/2029-01-23/
LOCATION:West Tennessee Healthcare Henry County Hopital\, 301 Tyson Avenue\, Paris\, TN\, 38242\, United States
CATEGORIES:Henry County Hospital
ATTACH;FMTTYPE=image/jpeg:https://www.wth.org/wp-content/uploads/2026/01/Total-Joint-Replacement-Class-1.jpg
END:VEVENT
BEGIN:VEVENT
DTSTART;TZID=America/Chicago:20290130T090000
DTEND;TZID=America/Chicago:20290130T090000
DTSTAMP:20260422T224210
CREATED:20260129T145436Z
LAST-MODIFIED:20260129T145539Z
UID:10002330-1864458000-1864458000@www.wth.org
SUMMARY:Total Joint Replacement Class
DESCRIPTION:Total Joint Replacement Class offered every Tuesday.\nTwo sessions are offered in the Private Dining Room of WTH Henry County Hospital:\n-9:00am\n-12:30pm\n\nTo register for class\, please call Nicole (731) 641-2720\n 
URL:https://www.wth.org/event/total-joint-replacement-class/2029-01-30/
LOCATION:West Tennessee Healthcare Henry County Hopital\, 301 Tyson Avenue\, Paris\, TN\, 38242\, United States
CATEGORIES:Henry County Hospital
ATTACH;FMTTYPE=image/jpeg:https://www.wth.org/wp-content/uploads/2026/01/Total-Joint-Replacement-Class-1.jpg
END:VEVENT
END:VCALENDAR